BEGIN:VCALENDAR
VERSION:2.0
PRODID:-//Library Market//iCal Export//EN
BEGIN:VEVENT
SUMMARY:meeting
UID:2070
DTSTAMP:20260422T130400Z
DTSTART:20260423T180000Z
DTEND:20260423T193000Z
LOCATION:200 Reading Rd, Mason, OH 45040, United States
ROOM: Library Classroom
DESCRIPTION:
URL:https://masonpl.librarycalendar.com/event/meeting-2070
END:VEVENT
END:VCALENDAR
